BEGIN:VCALENDAR
VERSION:2.0
PRODID:-//Galaxymotorsports - ECPv6.6.1//NONSGML v1.0//EN
CALSCALE:GREGORIAN
METHOD:PUBLISH
X-ORIGINAL-URL:https://galaxymotorsports.gr
X-WR-CALDESC:Events for Galaxymotorsports
REFRESH-INTERVAL;VALUE=DURATION:PT1H
X-Robots-Tag:noindex
X-PUBLISHED-TTL:PT1H
BEGIN:VTIMEZONE
TZID:Europe/Moscow
BEGIN:STANDARD
TZOFFSETFROM:+0300
TZOFFSETTO:+0300
TZNAME:MSK
DTSTART:20240101T000000
END:STANDARD
END:VTIMEZONE
BEGIN:VEVENT
DTSTART;TZID=Europe/Moscow:20241117T090000
DTEND;TZID=Europe/Moscow:20241117T160000
DTSTAMP:20260422T130851
CREATED:20241018T124547Z
LAST-MODIFIED:20241018T124548Z
UID:25734-1731834000-1731859200@galaxymotorsports.gr
SUMMARY:TRACKDAY -CAR
DESCRIPTION:Πληροφορίες και τους κανονισμούς θα βρείτε στην ενότητα TRACKDAYS-CAR.
URL:https://galaxymotorsports.gr/event/trackday-car-3/
CATEGORIES:TRACKDAYS-CAR
ATTACH;FMTTYPE=image/jpeg:https://galaxymotorsports.gr/wp-content/uploads/2024/10/by-GALAXYMOTORSPORTS-1.jpg
END:VEVENT
END:VCALENDAR