BEGIN:VCALENDAR
VERSION:2.0
PRODID:-//Galaxymotorsports - ECPv6.6.1//NONSGML v1.0//EN
CALSCALE:GREGORIAN
METHOD:PUBLISH
X-ORIGINAL-URL:https://galaxymotorsports.gr
X-WR-CALDESC:Events for Galaxymotorsports
REFRESH-INTERVAL;VALUE=DURATION:PT1H
X-Robots-Tag:noindex
X-PUBLISHED-TTL:PT1H
BEGIN:VTIMEZONE
TZID:Europe/Moscow
BEGIN:STANDARD
TZOFFSETFROM:+0300
TZOFFSETTO:+0300
TZNAME:MSK
DTSTART:20250101T000000
END:STANDARD
END:VTIMEZONE
BEGIN:VEVENT
DTSTART;TZID=Europe/Moscow:20250126T100000
DTEND;TZID=Europe/Moscow:20250126T170000
DTSTAMP:20260422T131006
CREATED:20250109T100842Z
LAST-MODIFIED:20250109T100843Z
UID:25809-1737885600-1737910800@galaxymotorsports.gr
SUMMARY:DRIFT DAY
DESCRIPTION:Πληροφορίες και τους κανονισμούς θα βρείτε στην ενότητα DRIFTDAY.
URL:https://galaxymotorsports.gr/event/drift-day-6/
CATEGORIES:DRIFT DAYS
ATTACH;FMTTYPE=image/jpeg:https://galaxymotorsports.gr/wp-content/uploads/2025/01/by-GALAXYMOTORSPORTS-1.jpg
END:VEVENT
END:VCALENDAR