BEGIN:VCALENDAR
VERSION:2.0
PRODID:-//Galaxymotorsports - ECPv6.6.1//NONSGML v1.0//EN
CALSCALE:GREGORIAN
METHOD:PUBLISH
X-WR-CALNAME:Galaxymotorsports
X-ORIGINAL-URL:https://galaxymotorsports.gr
X-WR-CALDESC:Events for Galaxymotorsports
REFRESH-INTERVAL;VALUE=DURATION:PT1H
X-Robots-Tag:noindex
X-PUBLISHED-TTL:PT1H
BEGIN:VTIMEZONE
TZID:Europe/Moscow
BEGIN:STANDARD
TZOFFSETFROM:+0300
TZOFFSETTO:+0300
TZNAME:MSK
DTSTART:20250101T000000
END:STANDARD
END:VTIMEZONE
BEGIN:VEVENT
DTSTART;TZID=Europe/Moscow:20250212T190000
DTEND;TZID=Europe/Moscow:20250212T220000
DTSTAMP:20260422T131532
CREATED:20250205T085410Z
LAST-MODIFIED:20250217T121208Z
UID:25847-1739386800-1739397600@galaxymotorsports.gr
SUMMARY:GALAXY SUPER SPRINT CUP 3RD & 4TH RACE
DESCRIPTION:
URL:https://galaxymotorsports.gr/event/galaxy-super-sprint-cup-3rd-4th-race/
CATEGORIES:ΑΓΩΝΕΣ SWS
END:VEVENT
BEGIN:VEVENT
DTSTART;TZID=Europe/Moscow:20250216T090000
DTEND;TZID=Europe/Moscow:20250216T160000
DTSTAMP:20260422T131532
CREATED:20250205T082855Z
LAST-MODIFIED:20250217T121203Z
UID:25844-1739696400-1739721600@galaxymotorsports.gr
SUMMARY:TRACKDAY-CAR
DESCRIPTION:Πληροφορίες και τους κανονισμούς θα βρείτε στην ενότητα TRACKDAYS-CAR.
URL:https://galaxymotorsports.gr/event/trackday-car-6/
CATEGORIES:TRACKDAYS-CAR
END:VEVENT
BEGIN:VEVENT
DTSTART;TZID=Europe/Moscow:20250222T000000
DTEND;TZID=Europe/Moscow:20250222T235959
DTSTAMP:20260422T131532
CREATED:20250217T121040Z
LAST-MODIFIED:20250217T121154Z
UID:25862-1740182400-1740268799@galaxymotorsports.gr
SUMMARY:TRACKDAY-MOTO
DESCRIPTION:Για πληροφορίες ανατρέξτε στις σελίδες κοινωνικής δικτυωσής του διοργανωτή.  \n\n\n\n(EXTREME TRACK DAYS)
URL:https://galaxymotorsports.gr/event/trackday-moto-9/
CATEGORIES:TRACKDAY-MOTO
END:VEVENT
BEGIN:VEVENT
DTSTART;TZID=Europe/Moscow:20250223T090000
DTEND;TZID=Europe/Moscow:20250223T160000
DTSTAMP:20260422T131532
CREATED:20250217T121647Z
LAST-MODIFIED:20250217T121704Z
UID:25864-1740301200-1740326400@galaxymotorsports.gr
SUMMARY:DRIFT DAY
DESCRIPTION:Για πληροφορίες ανατρέξτε στις σελίδες κοινωνικής δικτυωσής του διοργανωτή.  \n\n\n\n(DriftClub of Greece)
URL:https://galaxymotorsports.gr/event/drift-day-7/
CATEGORIES:DRIFT DAYS
END:VEVENT
END:VCALENDAR